Package: beer Version: 1.13.0 Command: /Library/Frameworks/R.framework/Resources/bin/R CMD INSTALL beer StartedAt: 2025-07-24 15:34:59 -0400 (Thu, 24 Jul 2025) EndedAt: 2025-07-24 15:35:10 -0400 (Thu, 24 Jul 2025) EllapsedTime: 11.2 seconds RetCode: 0 Status: OK