Package: beer Version: 1.13.0 Command: rm -rf beer.buildbin-libdir && mkdir beer.buildbin-libdir && /Users/biocbuild/BBS/utils/build-universal.sh beer_1.13.0.tar.gz /Library/Frameworks/R.framework/Resources/bin/R beer.buildbin-libdir StartedAt: 2025-07-24 22:24:51 -0400 (Thu, 24 Jul 2025) EndedAt: 2025-07-24 22:25:05 -0400 (Thu, 24 Jul 2025) EllapsedTime: 13.3 seconds RetCode: 0 Status: OK PackageFile: beer_1.13.0.tgz PackageFileSize: 707.3 KiB