Package: beer Version: 1.13.0 Maintainer: Athena Chen MaintainerEmail: achen70 at jhu.edu git_url: https://git.bioconductor.org/packages/beer git_branch: devel git_last_commit: 7ce3155 git_last_commit_date: 2025-04-15 12:45:45 -0400 (Tue, 15 Apr 2025)