Package: bedbaser Version: 1.1.2 Command: rm -rf bedbaser.buildbin-libdir && mkdir bedbaser.buildbin-libdir && F:\biocbuild\bbs-3.22-bioc\R\bin\R.exe CMD INSTALL --build --library=bedbaser.buildbin-libdir bedbaser_1.1.2.tar.gz StartedAt: 2025-07-25 08:46:25 -0400 (Fri, 25 Jul 2025) EndedAt: 2025-07-25 08:46:46 -0400 (Fri, 25 Jul 2025) EllapsedTime: 20.7 seconds RetCode: 0 Status: OK PackageFile: bedbaser_1.1.2.zip PackageFileSize: 315.1 KiB