Package: bedbaser Version: 1.1.2 Command: /Library/Frameworks/R.framework/Resources/bin/R CMD check --install=check:bedbaser.install-out.txt --library=/Library/Frameworks/R.framework/Resources/library --no-vignettes --timings bedbaser_1.1.2.tar.gz StartedAt: 2025-07-21 18:11:44 -0400 (Mon, 21 Jul 2025) EndedAt: 2025-07-21 18:13:19 -0400 (Mon, 21 Jul 2025) EllapsedTime: 95.1 seconds RetCode: 0 Status: OK CheckDir: bedbaser.Rcheck Warnings: 0