Package: beachmat Version: 2.25.3 Command: /home/biocbuild/R/R/bin/R CMD INSTALL beachmat StartedAt: 2025-07-24 21:17:12 -0000 (Thu, 24 Jul 2025) EndedAt: 2025-07-24 21:20:04 -0000 (Thu, 24 Jul 2025) EllapsedTime: 171.7 seconds RetCode: 0 Status: OK