Package: beachmat Version: 2.25.3 Command: /home/biocbuild/R/R/bin/R CMD build --keep-empty-dirs --no-resave-data beachmat StartedAt: 2025-07-24 22:46:34 -0000 (Thu, 24 Jul 2025) EndedAt: 2025-07-24 22:49:34 -0000 (Thu, 24 Jul 2025) EllapsedTime: 180.0 seconds RetCode: 0 Status: OK PackageFile: beachmat_2.25.3.tar.gz PackageFileSize: 437.6 KiB