Package: beachmat Version: 2.25.3 Command: F:\biocbuild\bbs-3.22-bioc\R\bin\R.exe CMD INSTALL beachmat StartedAt: 2025-07-24 16:01:02 -0400 (Thu, 24 Jul 2025) EndedAt: 2025-07-24 16:03:25 -0400 (Thu, 24 Jul 2025) EllapsedTime: 142.8 seconds RetCode: 0 Status: OK