Package: beachmat Version: 2.25.3 Command: chmod a+r beachmat -R && F:\biocbuild\bbs-3.22-bioc\R\bin\R.exe CMD build --keep-empty-dirs --no-resave-data beachmat StartedAt: 2025-07-24 17:40:33 -0400 (Thu, 24 Jul 2025) EndedAt: 2025-07-24 17:43:40 -0400 (Thu, 24 Jul 2025) EllapsedTime: 186.5 seconds RetCode: 0 Status: OK PackageFile: beachmat_2.25.3.tar.gz PackageFileSize: 369.9 KiB