Package: beachmat Version: 2.25.3 Command: /Library/Frameworks/R.framework/Resources/bin/R CMD INSTALL beachmat StartedAt: 2025-07-22 15:08:39 -0400 (Tue, 22 Jul 2025) EndedAt: 2025-07-22 15:09:10 -0400 (Tue, 22 Jul 2025) EllapsedTime: 30.5 seconds RetCode: 0 Status: OK