Package: beachmat Version: 2.25.3 Command: /Library/Frameworks/R.framework/Resources/bin/R CMD check --install=check:beachmat.install-out.txt --library=/Library/Frameworks/R.framework/Resources/library --no-vignettes --timings beachmat_2.25.3.tar.gz StartedAt: 2025-07-22 18:11:40 -0400 (Tue, 22 Jul 2025) EndedAt: 2025-07-22 18:14:17 -0400 (Tue, 22 Jul 2025) EllapsedTime: 156.9 seconds RetCode: 0 Status: OK CheckDir: beachmat.Rcheck Warnings: 0