Package: beachmat Version: 2.25.3 Command: /Library/Frameworks/R.framework/Resources/bin/R CMD build --keep-empty-dirs --no-resave-data beachmat StartedAt: 2025-07-22 15:41:30 -0400 (Tue, 22 Jul 2025) EndedAt: 2025-07-22 15:42:07 -0400 (Tue, 22 Jul 2025) EllapsedTime: 37.4 seconds RetCode: 0 Status: OK PackageFile: beachmat_2.25.3.tar.gz PackageFileSize: 369.7 KiB