Package: beachmat Version: 2.25.3 Command: rm -rf beachmat.buildbin-libdir && mkdir beachmat.buildbin-libdir && /Users/biocbuild/BBS/utils/build-universal.sh beachmat_2.25.3.tar.gz /Library/Frameworks/R.framework/Resources/bin/R beachmat.buildbin-libdir StartedAt: 2025-07-22 22:16:44 -0400 (Tue, 22 Jul 2025) EndedAt: 2025-07-22 22:17:18 -0400 (Tue, 22 Jul 2025) EllapsedTime: 33.7 seconds RetCode: 0 Status: OK PackageFile: beachmat_2.25.3.tgz PackageFileSize: 880.7 KiB