Package: beachmat.tiledb Version: 1.1.1 Command: /home/biocbuild/R/R/bin/R CMD INSTALL beachmat.tiledb StartedAt: 2025-07-17 20:29:53 -0000 (Thu, 17 Jul 2025) EndedAt: 2025-07-17 20:29:54 -0000 (Thu, 17 Jul 2025) EllapsedTime: 1.2 seconds RetCode: 1 Status: ERROR