Package: bcSeq Version: 1.31.0 Command: /home/biocbuild/bbs-3.22-bioc/R/bin/R CMD check --install=check:bcSeq.install-out.txt --library=/home/biocbuild/bbs-3.22-bioc/R/site-library --timings bcSeq_1.31.0.tar.gz StartedAt: 2025-07-01 20:14:00 -0400 (Tue, 01 Jul 2025) EndedAt: 2025-07-01 20:15:41 -0400 (Tue, 01 Jul 2025) EllapsedTime: 100.1 seconds RetCode: 0 Status: WARNINGS CheckDir: bcSeq.Rcheck Warnings: 1