Package: bcSeq Version: 1.31.0 Command: /home/biocbuild/bbs-3.22-bioc/R/bin/R CMD build --keep-empty-dirs --no-resave-data --md5 bcSeq StartedAt: 2025-07-01 16:14:13 -0400 (Tue, 01 Jul 2025) EndedAt: 2025-07-01 16:15:02 -0400 (Tue, 01 Jul 2025) EllapsedTime: 49.0 seconds RetCode: 0 Status: OK PackageFile: bcSeq_1.31.0.tar.gz PackageFileSize: 242.2 KiB