Package: baySeq Version: 2.43.0 Command: /home/biocbuild/bbs-3.22-bioc/R/bin/R CMD build --keep-empty-dirs --no-resave-data --md5 baySeq StartedAt: 2025-07-15 16:12:23 -0400 (Tue, 15 Jul 2025) EndedAt: 2025-07-15 16:18:14 -0400 (Tue, 15 Jul 2025) EllapsedTime: 351.3 seconds RetCode: 0 Status: OK PackageFile: baySeq_2.43.0.tar.gz PackageFileSize: 1.125 MiB