Package: baySeq Version: 2.43.0 Command: /Library/Frameworks/R.framework/Resources/bin/R CMD INSTALL baySeq StartedAt: 2025-07-14 15:10:49 -0400 (Mon, 14 Jul 2025) EndedAt: 2025-07-14 15:10:56 -0400 (Mon, 14 Jul 2025) EllapsedTime: 6.8 seconds RetCode: 0 Status: OK