Package: baySeq Version: 2.43.0 Command: /Library/Frameworks/R.framework/Resources/bin/R CMD check --install=check:baySeq.install-out.txt --library=/Library/Frameworks/R.framework/Resources/library --no-vignettes --timings baySeq_2.43.0.tar.gz StartedAt: 2025-07-14 18:10:49 -0400 (Mon, 14 Jul 2025) EndedAt: 2025-07-14 18:11:53 -0400 (Mon, 14 Jul 2025) EllapsedTime: 63.8 seconds RetCode: 0 Status: OK CheckDir: baySeq.Rcheck Warnings: 0