Package: baySeq Version: 2.43.0 Command: /Library/Frameworks/R.framework/Resources/bin/R CMD build --keep-empty-dirs --no-resave-data baySeq StartedAt: 2025-07-16 15:40:43 -0400 (Wed, 16 Jul 2025) EndedAt: 2025-07-16 15:42:43 -0400 (Wed, 16 Jul 2025) EllapsedTime: 120.3 seconds RetCode: 0 Status: OK PackageFile: baySeq_2.43.0.tar.gz PackageFileSize: 1.123 MiB