Package: bayNorm Version: 1.27.0 Command: /home/biocbuild/R/R/bin/R CMD INSTALL bayNorm StartedAt: 2025-07-07 20:25:54 -0000 (Mon, 07 Jul 2025) EndedAt: 2025-07-07 20:26:59 -0000 (Mon, 07 Jul 2025) EllapsedTime: 64.7 seconds RetCode: 0 Status: OK