Package: bayNorm Version: 1.27.0 Command: /Library/Frameworks/R.framework/Resources/bin/R CMD INSTALL bayNorm StartedAt: 2025-07-14 15:12:17 -0400 (Mon, 14 Jul 2025) EndedAt: 2025-07-14 15:12:32 -0400 (Mon, 14 Jul 2025) EllapsedTime: 14.6 seconds RetCode: 0 Status: OK