Package: batchelor Version: 1.25.0 Command: /Library/Frameworks/R.framework/Resources/bin/R CMD check --install=check:batchelor.install-out.txt --library=/Library/Frameworks/R.framework/Resources/library --no-vignettes --timings batchelor_1.25.0.tar.gz StartedAt: 2025-06-29 18:10:39 -0400 (Sun, 29 Jun 2025) EndedAt: 2025-06-29 18:12:54 -0400 (Sun, 29 Jun 2025) EllapsedTime: 134.7 seconds RetCode: 0 Status: OK CheckDir: batchelor.Rcheck Warnings: 0