Package: basilisk.utils Version: 1.21.2 Command: /home/biocbuild/R/R/bin/R CMD check --install=check:basilisk.utils.install-out.txt --library=/home/biocbuild/R/R/site-library --no-vignettes --timings basilisk.utils_1.21.2.tar.gz StartedAt: 2025-06-27 04:10:56 -0000 (Fri, 27 Jun 2025) EndedAt: 2025-06-27 04:13:31 -0000 (Fri, 27 Jun 2025) EllapsedTime: 155.2 seconds RetCode: 0 Status: OK CheckDir: basilisk.utils.Rcheck Warnings: 0