Package: basecallQC Version: 1.33.0 Command: /home/biocbuild/R/R/bin/R CMD INSTALL basecallQC StartedAt: 2025-10-06 21:10:11 -0000 (Mon, 06 Oct 2025) EndedAt: 2025-10-06 21:11:25 -0000 (Mon, 06 Oct 2025) EllapsedTime: 74.4 seconds RetCode: 0 Status: OK