Package: barcodetrackR Version: 1.17.0 Command: /Library/Frameworks/R.framework/Resources/bin/R CMD check --install=check:barcodetrackR.install-out.txt --library=/Library/Frameworks/R.framework/Resources/library --no-vignettes --timings barcodetrackR_1.17.0.tar.gz StartedAt: 2025-07-21 19:08:36 -0400 (Mon, 21 Jul 2025) EndedAt: 2025-07-21 19:12:22 -0400 (Mon, 21 Jul 2025) EllapsedTime: 226.7 seconds RetCode: 0 Status: OK CheckDir: barcodetrackR.Rcheck Warnings: 0