Package: barcodetrackR Version: 1.17.0 Command: /Library/Frameworks/R.framework/Resources/bin/R CMD INSTALL barcodetrackR StartedAt: 2025-07-22 15:09:51 -0400 (Tue, 22 Jul 2025) EndedAt: 2025-07-22 15:10:00 -0400 (Tue, 22 Jul 2025) EllapsedTime: 9.7 seconds RetCode: 0 Status: OK