Package: barcodetrackR Version: 1.17.0 Command: /Library/Frameworks/R.framework/Resources/bin/R CMD build --keep-empty-dirs --no-resave-data barcodetrackR StartedAt: 2025-07-22 15:39:26 -0400 (Tue, 22 Jul 2025) EndedAt: 2025-07-22 15:39:56 -0400 (Tue, 22 Jul 2025) EllapsedTime: 29.3 seconds RetCode: 0 Status: OK PackageFile: barcodetrackR_1.17.0.tar.gz PackageFileSize: 3.554 MiB