Package: barbieQ Version: 1.1.2 Command: /home/biocbuild/R/R/bin/R CMD build --keep-empty-dirs --no-resave-data barbieQ StartedAt: 2025-07-14 21:47:10 -0000 (Mon, 14 Jul 2025) EndedAt: 2025-07-14 21:56:15 -0000 (Mon, 14 Jul 2025) EllapsedTime: 545.1 seconds RetCode: 0 Status: OK PackageFile: barbieQ_1.1.2.tar.gz PackageFileSize: 3.624 MiB