Package: barbieQ Version: 1.1.2 Command: chmod a+r barbieQ -R && F:\biocbuild\bbs-3.22-bioc\R\bin\R.exe CMD build --keep-empty-dirs --no-resave-data barbieQ StartedAt: 2025-07-21 17:31:40 -0400 (Mon, 21 Jul 2025) EndedAt: 2025-07-21 17:40:36 -0400 (Mon, 21 Jul 2025) EllapsedTime: 535.5 seconds RetCode: 0 Status: OK PackageFile: barbieQ_1.1.2.tar.gz PackageFileSize: 3.501 MiB