Package: barbieQ Version: 1.1.2 Command: /home/biocbuild/bbs-3.22-bioc/R/bin/R CMD INSTALL barbieQ StartedAt: 2025-07-09 16:10:33 -0400 (Wed, 09 Jul 2025) EndedAt: 2025-07-09 16:11:09 -0400 (Wed, 09 Jul 2025) EllapsedTime: 36.0 seconds RetCode: 0 Status: OK