Package: barbieQ Version: 1.1.2 Command: /Library/Frameworks/R.framework/Resources/bin/R CMD build --keep-empty-dirs --no-resave-data barbieQ StartedAt: 2025-07-20 16:09:44 -0400 (Sun, 20 Jul 2025) EndedAt: 2025-07-20 16:17:53 -0400 (Sun, 20 Jul 2025) EllapsedTime: 488.3 seconds RetCode: 0 Status: OK PackageFile: barbieQ_1.1.2.tar.gz PackageFileSize: 4.234 MiB