Package: barbieQ Version: 1.1.2 Command: rm -rf barbieQ.buildbin-libdir && mkdir barbieQ.buildbin-libdir && /Users/biocbuild/BBS/utils/build-universal.sh barbieQ_1.1.2.tar.gz /Library/Frameworks/R.framework/Resources/bin/R barbieQ.buildbin-libdir StartedAt: 2025-07-21 00:51:42 -0400 (Mon, 21 Jul 2025) EndedAt: 2025-07-21 00:52:24 -0400 (Mon, 21 Jul 2025) EllapsedTime: 41.6 seconds RetCode: 0 Status: OK PackageFile: barbieQ_1.1.2.tgz PackageFileSize: 4.335 MiB