Package: barbieQ Version: 1.1.2 Command: /Library/Frameworks/R.framework/Resources/bin/R CMD build --keep-empty-dirs --no-resave-data barbieQ StartedAt: 2025-07-14 15:39:07 -0400 (Mon, 14 Jul 2025) EndedAt: 2025-07-14 15:42:01 -0400 (Mon, 14 Jul 2025) EllapsedTime: 173.9 seconds RetCode: 0 Status: OK PackageFile: barbieQ_1.1.2.tar.gz PackageFileSize: 4.228 MiB