Package: banocc Version: 1.33.0 Command: /home/biocbuild/R/R/bin/R CMD INSTALL banocc StartedAt: 2025-07-10 21:11:22 -0000 (Thu, 10 Jul 2025) EndedAt: 2025-07-10 21:12:14 -0000 (Thu, 10 Jul 2025) EllapsedTime: 52.6 seconds RetCode: 0 Status: OK