Package: banocc Version: 1.33.0 Command: /home/biocbuild/R/R/bin/R CMD check --install=check:banocc.install-out.txt --library=/home/biocbuild/R/R/site-library --no-vignettes --timings banocc_1.33.0.tar.gz StartedAt: 2025-07-11 05:27:19 -0000 (Fri, 11 Jul 2025) EndedAt: 2025-07-11 05:30:47 -0000 (Fri, 11 Jul 2025) EllapsedTime: 208.3 seconds RetCode: 0 Status: OK CheckDir: banocc.Rcheck Warnings: 0