Package: banocc Version: 1.33.0 Command: /home/biocbuild/R/R/bin/R CMD build --keep-empty-dirs --no-resave-data banocc StartedAt: 2025-07-10 22:57:25 -0000 (Thu, 10 Jul 2025) EndedAt: 2025-07-10 23:01:29 -0000 (Thu, 10 Jul 2025) EllapsedTime: 244.1 seconds RetCode: 0 Status: OK PackageFile: banocc_1.33.0.tar.gz PackageFileSize: 25.73 MiB