Package: banocc Version: 1.33.0 Command: F:\biocbuild\bbs-3.22-bioc\R\bin\R.exe CMD INSTALL banocc StartedAt: 2025-07-11 15:31:12 -0400 (Fri, 11 Jul 2025) EndedAt: 2025-07-11 15:31:42 -0400 (Fri, 11 Jul 2025) EllapsedTime: 30.1 seconds RetCode: 0 Status: OK