Package: banocc Version: 1.33.0 Command: chmod a+r banocc -R && F:\biocbuild\bbs-3.22-bioc\R\bin\R.exe CMD build --keep-empty-dirs --no-resave-data banocc StartedAt: 2025-07-11 17:24:36 -0400 (Fri, 11 Jul 2025) EndedAt: 2025-07-11 17:30:03 -0400 (Fri, 11 Jul 2025) EllapsedTime: 326.5 seconds RetCode: 0 Status: OK PackageFile: banocc_1.33.0.tar.gz PackageFileSize: 25.58 MiB