Package: banocc Version: 1.33.0 Command: rm -rf banocc.buildbin-libdir && mkdir banocc.buildbin-libdir && F:\biocbuild\bbs-3.22-bioc\R\bin\R.exe CMD INSTALL --build --library=banocc.buildbin-libdir banocc_1.33.0.tar.gz StartedAt: 2025-07-12 08:21:24 -0400 (Sat, 12 Jul 2025) EndedAt: 2025-07-12 08:21:49 -0400 (Sat, 12 Jul 2025) EllapsedTime: 25.2 seconds RetCode: 0 Status: OK PackageFile: banocc_1.33.0.zip PackageFileSize: 1.089 MiB