Package: banocc Version: 1.33.0 Command: /home/biocbuild/bbs-3.22-bioc/R/bin/R CMD INSTALL banocc StartedAt: 2025-07-09 15:55:52 -0400 (Wed, 09 Jul 2025) EndedAt: 2025-07-09 15:56:18 -0400 (Wed, 09 Jul 2025) EllapsedTime: 26.4 seconds RetCode: 0 Status: OK