Package: banocc Version: 1.33.0 Command: /home/biocbuild/bbs-3.22-bioc/R/bin/R CMD build --keep-empty-dirs --no-resave-data --md5 banocc StartedAt: 2025-07-09 17:16:13 -0400 (Wed, 09 Jul 2025) EndedAt: 2025-07-09 17:19:23 -0400 (Wed, 09 Jul 2025) EllapsedTime: 190.2 seconds RetCode: 0 Status: OK PackageFile: banocc_1.33.0.tar.gz PackageFileSize: 26.05 MiB