Package: banocc Version: 1.33.0 Command: /Library/Frameworks/R.framework/Resources/bin/R CMD INSTALL banocc StartedAt: 2025-07-10 15:09:35 -0400 (Thu, 10 Jul 2025) EndedAt: 2025-07-10 15:10:19 -0400 (Thu, 10 Jul 2025) EllapsedTime: 44.0 seconds RetCode: 0 Status: OK