Package: banocc Version: 1.33.0 Command: /Library/Frameworks/R.framework/Resources/bin/R CMD build --keep-empty-dirs --no-resave-data banocc StartedAt: 2025-07-11 16:06:36 -0400 (Fri, 11 Jul 2025) EndedAt: 2025-07-11 16:08:53 -0400 (Fri, 11 Jul 2025) EllapsedTime: 136.8 seconds RetCode: 0 Status: OK PackageFile: banocc_1.33.0.tar.gz PackageFileSize: 26.07 MiB