Package: banocc Version: 1.33.0 Command: rm -rf banocc.buildbin-libdir && mkdir banocc.buildbin-libdir && /Users/biocbuild/BBS/utils/build-universal.sh banocc_1.33.0.tar.gz /Library/Frameworks/R.framework/Resources/bin/R banocc.buildbin-libdir StartedAt: 2025-07-12 00:45:19 -0400 (Sat, 12 Jul 2025) EndedAt: 2025-07-12 00:45:34 -0400 (Sat, 12 Jul 2025) EllapsedTime: 14.9 seconds RetCode: 0 Status: OK PackageFile: banocc_1.33.0.tgz PackageFileSize: 1.583 MiB