Package: banocc Version: 1.33.0 Command: /Library/Frameworks/R.framework/Resources/bin/R CMD build --keep-empty-dirs --no-resave-data banocc StartedAt: 2025-07-10 15:39:11 -0400 (Thu, 10 Jul 2025) EndedAt: 2025-07-10 15:39:52 -0400 (Thu, 10 Jul 2025) EllapsedTime: 41.4 seconds RetCode: 0 Status: OK PackageFile: banocc_1.33.0.tar.gz PackageFileSize: 26 MiB