Package: banocc Version: 1.33.0 Maintainer: George Weingart MaintainerEmail: george.weingart at gmail.com git_url: https://git.bioconductor.org/packages/banocc git_branch: devel git_last_commit: fa654de git_last_commit_date: 2025-04-15 11:10:11 -0400 (Tue, 15 Apr 2025)