Package: bandle Version: 1.13.0 Command: /Library/Frameworks/R.framework/Resources/bin/R CMD check --install=check:bandle.install-out.txt --library=/Library/Frameworks/R.framework/Resources/library --no-vignettes --timings bandle_1.13.0.tar.gz StartedAt: 2025-07-11 19:12:26 -0400 (Fri, 11 Jul 2025) EndedAt: 2025-07-11 19:24:00 -0400 (Fri, 11 Jul 2025) EllapsedTime: 693.7 seconds RetCode: 0 Status: WARNINGS CheckDir: bandle.Rcheck Warnings: 1