Package: bandle Version: 1.13.0 Command: /Library/Frameworks/R.framework/Resources/bin/R CMD build --keep-empty-dirs --no-resave-data bandle StartedAt: 2025-07-11 16:06:33 -0400 (Fri, 11 Jul 2025) EndedAt: 2025-07-11 16:11:17 -0400 (Fri, 11 Jul 2025) EllapsedTime: 284.3 seconds RetCode: 0 Status: OK PackageFile: bandle_1.13.0.tar.gz PackageFileSize: 4.162 MiB