Package: bandle Version: 1.13.0 Command: rm -rf bandle.buildbin-libdir && mkdir bandle.buildbin-libdir && /Users/biocbuild/BBS/utils/build-universal.sh bandle_1.13.0.tar.gz /Library/Frameworks/R.framework/Resources/bin/R bandle.buildbin-libdir StartedAt: 2025-07-12 00:45:16 -0400 (Sat, 12 Jul 2025) EndedAt: 2025-07-12 00:47:21 -0400 (Sat, 12 Jul 2025) EllapsedTime: 124.6 seconds RetCode: 0 Status: OK PackageFile: bandle_1.13.0.tgz PackageFileSize: 4.824 MiB